BEGIN:VCALENDAR
VERSION:2.0
PRODID:-//CLUB 8  Akasaka（クラブ８ 赤坂） - ECPv6.15.17.1//NONSGML v1.0//EN
CALSCALE:GREGORIAN
METHOD:PUBLISH
X-WR-CALNAME:CLUB 8  Akasaka（クラブ８ 赤坂）
X-ORIGINAL-URL:https://club8.tokyo
X-WR-CALDESC:CLUB 8  Akasaka（クラブ８ 赤坂） のイベント
REFRESH-INTERVAL;VALUE=DURATION:PT1H
X-Robots-Tag:noindex
X-PUBLISHED-TTL:PT1H
BEGIN:VTIMEZONE
TZID:Asia/Tokyo
BEGIN:STANDARD
TZOFFSETFROM:+0900
TZOFFSETTO:+0900
TZNAME:JST
DTSTART:20250101T000000
END:STANDARD
END:VTIMEZONE
BEGIN:VEVENT
DTSTART;TZID=Asia/Tokyo:20260412T180000
DTEND;TZID=Asia/Tokyo:20260412T230000
DTSTAMP:20260422T174049
CREATED:20260301T053304Z
LAST-MODIFIED:20260311T153818Z
UID:16299-1776016800-1776034800@club8.tokyo
SUMMARY:4/12(日)【WINZOR POCKET 】 ZABU(Vo. ) SHIZUKA(Vo. ) SHIROMA(G. ) KITA(B. ) KENSUKE(Dr.) KENTO(Key. ) MISAKI(SAX.)
DESCRIPTION:4/12(日)【WINZOR POCKET 】\nZABU(Vo. )\nSHIZUKA(Vo. )\nSHIROMA(G. )\nKITA(B. )\nKENSUKE(Dr.)\nKENTO(Key. )\nMISAKI(SAX.)\n\n\nOpen: 18:00\nStart: 19:00〜(2ステージ入れ替えなし）\n\n\n料金（税別）：ミュージックチャージ￥5\,000\n※2ドリンク以上のオーダーをお願いしております。\n\n\nCLUB 8 Akasaka\n〒107-0052 東京都港区赤坂2-15-12パール赤坂ビルB1F\nTEL: /03-6426-5380\nhttps://club8.tokyo/
URL:https://club8.tokyo/event/4-12%e6%97%a5%e3%80%90winzor-pocket-%e3%80%91-zabuvo-shizukavo-hirog-shiromag-kitab-kensukedr-kentokey-akkietp/
ATTACH;FMTTYPE=image/jpeg:https://club8.tokyo/wp-content/uploads/2026/03/IMG_4889.jpg
END:VEVENT
END:VCALENDAR